Package: DiscoRhythm Version: 1.26.0 Command: /Library/Frameworks/R.framework/Resources/bin/R CMD INSTALL DiscoRhythm StartedAt: 2025-11-02 15:11:22 -0500 (Sun, 02 Nov 2025) EndedAt: 2025-11-02 15:11:33 -0500 (Sun, 02 Nov 2025) EllapsedTime: 11.5 seconds RetCode: 0 Status: OK