Package: DiscoRhythm Version: 1.26.0 Command: /Library/Frameworks/R.framework/Resources/bin/R CMD build --keep-empty-dirs --no-resave-data DiscoRhythm StartedAt: 2025-11-02 16:13:35 -0500 (Sun, 02 Nov 2025) EndedAt: 2025-11-02 16:13:54 -0500 (Sun, 02 Nov 2025) EllapsedTime: 19.2 seconds RetCode: 0 Status: OK PackageFile: DiscoRhythm_1.26.0.tar.gz PackageFileSize: 2.522 MiB