Package: DiscoRhythm Version: 1.26.0 Command: rm -rf DiscoRhythm.buildbin-libdir && mkdir DiscoRhythm.buildbin-libdir && /Users/biocbuild/BBS/utils/build-universal.sh DiscoRhythm_1.26.0.tar.gz /Library/Frameworks/R.framework/Resources/bin/R DiscoRhythm.buildbin-libdir StartedAt: 2025-11-02 23:02:56 -0500 (Sun, 02 Nov 2025) EndedAt: 2025-11-02 23:03:08 -0500 (Sun, 02 Nov 2025) EllapsedTime: 12.2 seconds RetCode: 0 Status: OK PackageFile: DiscoRhythm_1.26.0.tgz PackageFileSize: 1.915 MiB