Package: DirichletMultinomial Version: 1.52.0 Command: /home/biocbuild/R/R/bin/R CMD INSTALL DirichletMultinomial StartedAt: 2025-11-13 21:20:48 -0000 (Thu, 13 Nov 2025) EndedAt: 2025-11-13 21:21:05 -0000 (Thu, 13 Nov 2025) EllapsedTime: 17.0 seconds RetCode: 0 Status: OK