Package: DirichletMultinomial Version: 1.52.0 Command: /home/biocbuild/bbs-3.22-bioc/R/bin/R CMD INSTALL DirichletMultinomial StartedAt: 2025-11-11 15:18:32 -0500 (Tue, 11 Nov 2025) EndedAt: 2025-11-11 15:18:41 -0500 (Tue, 11 Nov 2025) EllapsedTime: 8.5 seconds RetCode: 0 Status: OK