Package: DirichletMultinomial Version: 1.52.0 Command: /home/biocbuild/bbs-3.22-bioc/R/bin/R CMD check --install=check:DirichletMultinomial.install-out.txt --library=/home/biocbuild/bbs-3.22-bioc/R/site-library --timings DirichletMultinomial_1.52.0.tar.gz StartedAt: 2025-11-11 23:11:01 -0500 (Tue, 11 Nov 2025) EndedAt: 2025-11-11 23:11:57 -0500 (Tue, 11 Nov 2025) EllapsedTime: 56.0 seconds RetCode: 0 Status: WARNINGS CheckDir: DirichletMultinomial.Rcheck Warnings: 1