Package: DirichletMultinomial Version: 1.50.0 Command: /home/biocbuild/bbs-3.21-bioc/R/bin/R CMD INSTALL DirichletMultinomial StartedAt: 2025-10-01 15:16:39 -0400 (Wed, 01 Oct 2025) EndedAt: 2025-10-01 15:16:47 -0400 (Wed, 01 Oct 2025) EllapsedTime: 7.8 seconds RetCode: 0 Status: OK