Package: DirichletMultinomial Version: 1.50.0 Command: rm -rf DirichletMultinomial.buildbin-libdir && mkdir DirichletMultinomial.buildbin-libdir && /Users/biocbuild/BBS/utils/build-universal.sh DirichletMultinomial_1.50.0.tar.gz /Library/Frameworks/R.framework/Resources/bin/R DirichletMultinomial.buildbin-libdir StartedAt: 2025-10-14 13:17:50 -0400 (Tue, 14 Oct 2025) EndedAt: 2025-10-14 13:18:18 -0400 (Tue, 14 Oct 2025) EllapsedTime: 27.9 seconds RetCode: 0 Status: OK PackageFile: DirichletMultinomial_1.50.0.tgz PackageFileSize: 1.504 MiB