Package: DirichletMultinomial Version: 1.50.0 Command: rm -rf DirichletMultinomial.buildbin-libdir && mkdir DirichletMultinomial.buildbin-libdir && /Users/biocbuild/BBS/utils/build-universal.sh DirichletMultinomial_1.50.0.tar.gz /Library/Frameworks/R.framework/Resources/bin/R DirichletMultinomial.buildbin-libdir StartedAt: 2025-04-22 00:42:45 -0400 (Tue, 22 Apr 2025) EndedAt: 2025-04-22 00:43:01 -0400 (Tue, 22 Apr 2025) EllapsedTime: 16.1 seconds RetCode: 0 Status: OK PackageFile: DirichletMultinomial_1.50.0.tgz PackageFileSize: 1.501 MiB