Package: DirichletMultinomial Version: 1.50.0 Command: /Library/Frameworks/R.framework/Resources/bin/R CMD INSTALL DirichletMultinomial StartedAt: 2025-09-25 15:37:54 -0400 (Thu, 25 Sep 2025) EndedAt: 2025-09-25 15:38:04 -0400 (Thu, 25 Sep 2025) EllapsedTime: 9.7 seconds RetCode: 0 Status: OK