Package: DirichletMultinomial Version: 1.50.0 Command: /Library/Frameworks/R.framework/Resources/bin/R CMD build --keep-empty-dirs --no-resave-data DirichletMultinomial StartedAt: 2025-09-25 23:19:52 -0400 (Thu, 25 Sep 2025) EndedAt: 2025-09-25 23:20:18 -0400 (Thu, 25 Sep 2025) EllapsedTime: 25.8 seconds RetCode: 0 Status: OK PackageFile: DirichletMultinomial_1.50.0.tar.gz PackageFileSize: 1.062 MiB