Package: DirichletMultinomial Version: 1.50.0 Command: rm -rf DirichletMultinomial.buildbin-libdir && mkdir DirichletMultinomial.buildbin-libdir && /Users/biocbuild/BBS/utils/build-universal.sh DirichletMultinomial_1.50.0.tar.gz /Library/Frameworks/R.framework/Resources/bin/R DirichletMultinomial.buildbin-libdir StartedAt: 2025-09-27 17:15:51 -0400 (Sat, 27 Sep 2025) EndedAt: 2025-09-27 17:16:04 -0400 (Sat, 27 Sep 2025) EllapsedTime: 13.5 seconds RetCode: 0 Status: OK PackageFile: DirichletMultinomial_1.50.0.tgz PackageFileSize: 1.444 MiB