Package: DifferentialRegulation Version: 2.8.0 Command: /home/biocbuild/R/R/bin/R CMD INSTALL DifferentialRegulation StartedAt: 2025-11-13 21:43:24 -0000 (Thu, 13 Nov 2025) EndedAt: 2025-11-13 21:44:39 -0000 (Thu, 13 Nov 2025) EllapsedTime: 75.9 seconds RetCode: 0 Status: OK