Package: DifferentialRegulation Version: 2.8.0 Command: /home/biocbuild/R/R/bin/R CMD build --keep-empty-dirs --no-resave-data DifferentialRegulation StartedAt: 2025-11-14 01:17:18 -0000 (Fri, 14 Nov 2025) EndedAt: 2025-11-14 01:57:19 -0000 (Fri, 14 Nov 2025) EllapsedTime: 2401.0 seconds RetCode: None Status: TIMEOUT PackageFile: None PackageFileSize: NA