Package: DifferentialRegulation Version: 2.8.0 Command: /home/biocbuild/bbs-3.22-bioc/R/bin/R CMD INSTALL DifferentialRegulation StartedAt: 2025-11-11 15:38:41 -0500 (Tue, 11 Nov 2025) EndedAt: 2025-11-11 15:39:33 -0500 (Tue, 11 Nov 2025) EllapsedTime: 51.5 seconds RetCode: 0 Status: OK