Package: DifferentialRegulation Version: 2.6.0 Command: /home/biocbuild/bbs-3.21-bioc/R/bin/R CMD build --keep-empty-dirs --no-resave-data DifferentialRegulation StartedAt: 2025-10-12 17:13:30 -0400 (Sun, 12 Oct 2025) EndedAt: 2025-10-12 17:16:34 -0400 (Sun, 12 Oct 2025) EllapsedTime: 184.1 seconds RetCode: 0 Status: OK PackageFile: DifferentialRegulation_2.6.0.tar.gz PackageFileSize: 3.119 MiB