Package: DifferentialRegulation Version: 2.8.0 Command: /Library/Frameworks/R.framework/Resources/bin/R CMD INSTALL DifferentialRegulation StartedAt: 2025-11-03 15:29:37 -0500 (Mon, 03 Nov 2025) EndedAt: 2025-11-03 15:30:38 -0500 (Mon, 03 Nov 2025) EllapsedTime: 61.5 seconds RetCode: 0 Status: OK