Package: DifferentialRegulation Version: 2.8.0 Command: /Library/Frameworks/R.framework/Resources/bin/R CMD build --keep-empty-dirs --no-resave-data DifferentialRegulation StartedAt: 2025-11-03 16:48:29 -0500 (Mon, 03 Nov 2025) EndedAt: 2025-11-03 16:52:11 -0500 (Mon, 03 Nov 2025) EllapsedTime: 221.3 seconds RetCode: 0 Status: OK PackageFile: DifferentialRegulation_2.8.0.tar.gz PackageFileSize: 2.817 MiB