Package: DifferentialRegulation Version: 2.8.0 Command: rm -rf DifferentialRegulation.buildbin-libdir && mkdir DifferentialRegulation.buildbin-libdir && /Users/biocbuild/BBS/utils/build-universal.sh DifferentialRegulation_2.8.0.tar.gz /Library/Frameworks/R.framework/Resources/bin/R DifferentialRegulation.buildbin-libdir StartedAt: 2025-11-04 01:37:10 -0500 (Tue, 04 Nov 2025) EndedAt: 2025-11-04 01:38:19 -0500 (Tue, 04 Nov 2025) EllapsedTime: 68.9 seconds RetCode: 0 Status: OK PackageFile: DifferentialRegulation_2.8.0.tgz PackageFileSize: 2.961 MiB