Package: DifferentialRegulation Version: 2.6.0 Command: /Library/Frameworks/R.framework/Resources/bin/R CMD INSTALL DifferentialRegulation StartedAt: 2025-10-09 17:02:07 -0400 (Thu, 09 Oct 2025) EndedAt: 2025-10-09 17:03:06 -0400 (Thu, 09 Oct 2025) EllapsedTime: 58.4 seconds RetCode: 0 Status: OK