Package: DifferentialRegulation Version: 2.6.0 Command: /Library/Frameworks/R.framework/Resources/bin/R CMD build --keep-empty-dirs --no-resave-data DifferentialRegulation StartedAt: 2025-10-09 23:31:00 -0400 (Thu, 09 Oct 2025) EndedAt: 2025-10-09 23:34:29 -0400 (Thu, 09 Oct 2025) EllapsedTime: 208.9 seconds RetCode: 0 Status: OK PackageFile: DifferentialRegulation_2.6.0.tar.gz PackageFileSize: 2.821 MiB