Package: DifferentialRegulation Version: 2.6.0 Command: rm -rf DifferentialRegulation.buildbin-libdir && mkdir DifferentialRegulation.buildbin-libdir && /Users/biocbuild/BBS/utils/build-universal.sh DifferentialRegulation_2.6.0.tar.gz /Library/Frameworks/R.framework/Resources/bin/R DifferentialRegulation.buildbin-libdir StartedAt: 2025-10-11 19:54:01 -0400 (Sat, 11 Oct 2025) EndedAt: 2025-10-11 19:55:08 -0400 (Sat, 11 Oct 2025) EllapsedTime: 67.1 seconds RetCode: 0 Status: OK PackageFile: DifferentialRegulation_2.6.0.tgz PackageFileSize: 2.971 MiB