Package: DiffLogo Version: 2.34.0 Command: /home/biocbuild/R/R/bin/R CMD build --keep-empty-dirs --no-resave-data DiffLogo StartedAt: 2025-11-14 01:17:52 -0000 (Fri, 14 Nov 2025) EndedAt: 2025-11-14 01:18:55 -0000 (Fri, 14 Nov 2025) EllapsedTime: 63.0 seconds RetCode: 0 Status: OK PackageFile: DiffLogo_2.34.0.tar.gz PackageFileSize: 913.4 KiB