Package: DiffLogo Version: 2.32.0 Command: /Library/Frameworks/R.framework/Resources/bin/R CMD INSTALL DiffLogo StartedAt: 2025-10-09 15:04:55 -0400 (Thu, 09 Oct 2025) EndedAt: 2025-10-09 15:05:25 -0400 (Thu, 09 Oct 2025) EllapsedTime: 30.5 seconds RetCode: 0 Status: OK