Package: DiffLogo Version: 2.32.0 Command: /Library/Frameworks/R.framework/Resources/bin/R CMD build --keep-empty-dirs --no-resave-data DiffLogo StartedAt: 2025-10-09 18:37:28 -0400 (Thu, 09 Oct 2025) EndedAt: 2025-10-09 18:39:12 -0400 (Thu, 09 Oct 2025) EllapsedTime: 103.9 seconds RetCode: 0 Status: OK PackageFile: DiffLogo_2.32.0.tar.gz PackageFileSize: 919.3 KiB