Package: DiffLogo Version: 2.32.0 Command: rm -rf DiffLogo.buildbin-libdir && mkdir DiffLogo.buildbin-libdir && /Users/biocbuild/BBS/utils/build-universal.sh DiffLogo_2.32.0.tar.gz /Library/Frameworks/R.framework/Resources/bin/R DiffLogo.buildbin-libdir StartedAt: 2025-10-10 13:17:33 -0400 (Fri, 10 Oct 2025) EndedAt: 2025-10-10 13:17:45 -0400 (Fri, 10 Oct 2025) EllapsedTime: 12.6 seconds RetCode: 0 Status: OK PackageFile: DiffLogo_2.32.0.tgz PackageFileSize: 1.059 MiB