Package: DiffBind Version: 3.20.0 Command: /home/biocbuild/R/R/bin/R CMD INSTALL DiffBind StartedAt: 2025-11-13 22:02:47 -0000 (Thu, 13 Nov 2025) EndedAt: 2025-11-13 22:04:30 -0000 (Thu, 13 Nov 2025) EllapsedTime: 102.7 seconds RetCode: 0 Status: OK