Package: DiffBind Version: 3.20.0 Command: /home/biocbuild/R/R/bin/R CMD build --keep-empty-dirs --no-resave-data DiffBind StartedAt: 2025-11-11 01:11:14 -0000 (Tue, 11 Nov 2025) EndedAt: 2025-11-11 01:16:12 -0000 (Tue, 11 Nov 2025) EllapsedTime: 298.1 seconds RetCode: 0 Status: OK PackageFile: DiffBind_3.20.0.tar.gz PackageFileSize: 6.474 MiB