Package: DiffBind Version: 3.20.0 Command: /home/biocbuild/bbs-3.22-bioc/R/bin/R CMD check --install=check:DiffBind.install-out.txt --library=/home/biocbuild/bbs-3.22-bioc/R/site-library --timings DiffBind_3.20.0.tar.gz StartedAt: 2025-11-13 23:06:35 -0500 (Thu, 13 Nov 2025) EndedAt: 2025-11-13 23:19:24 -0500 (Thu, 13 Nov 2025) EllapsedTime: 769.6 seconds RetCode: 0 Status: OK CheckDir: DiffBind.Rcheck Warnings: 0