Package: DiffBind Version: 3.18.0 Command: /Library/Frameworks/R.framework/Resources/bin/R CMD INSTALL DiffBind StartedAt: 2025-10-09 16:39:14 -0400 (Thu, 09 Oct 2025) EndedAt: 2025-10-09 16:41:59 -0400 (Thu, 09 Oct 2025) EllapsedTime: 165.2 seconds RetCode: 0 Status: OK