Package: DiffBind Version: 3.18.0 Command: /Library/Frameworks/R.framework/Resources/bin/R CMD build --keep-empty-dirs --no-resave-data DiffBind StartedAt: 2025-10-09 18:36:53 -0400 (Thu, 09 Oct 2025) EndedAt: 2025-10-09 18:45:50 -0400 (Thu, 09 Oct 2025) EllapsedTime: 537.2 seconds RetCode: 0 Status: OK PackageFile: DiffBind_3.18.0.tar.gz PackageFileSize: 6.477 MiB