Package: DiffBind Version: 3.18.0 Command: rm -rf DiffBind.buildbin-libdir && mkdir DiffBind.buildbin-libdir && /Users/biocbuild/BBS/utils/build-universal.sh DiffBind_3.18.0.tar.gz /Library/Frameworks/R.framework/Resources/bin/R DiffBind.buildbin-libdir StartedAt: 2025-10-10 13:16:54 -0400 (Fri, 10 Oct 2025) EndedAt: 2025-10-10 13:21:23 -0400 (Fri, 10 Oct 2025) EllapsedTime: 268.8 seconds RetCode: 0 Status: OK PackageFile: DiffBind_3.18.0.tgz PackageFileSize: 7.097 MiB