Back to Build/check report for BioC 3.22:   simplified   long
ABC[D]EFGHIJKLMNOPQRSTUVWXYZ

This page was generated on 2025-11-13 11:55 -0500 (Thu, 13 Nov 2025).

HostnameOSArch (*)R versionInstalled pkgs
taishanLinux (openEuler 24.03 LTS)aarch644.5.0 (2025-04-11) -- "How About a Twenty-Six" 4668
Click on any hostname to see more info about the system (e.g. compilers)      (*) as reported by 'uname -p', except on Windows and Mac OS X

All results for package DiffBind


To the developers/maintainers of the DiffBind package:
- Allow up to 24 hours (and sometimes 48 hours) for your latest push to git@git.bioconductor.org:packages/DiffBind.git to reflect on this report. See Troubleshooting Build Report for more information.
- Use the following Renviron settings to reproduce errors and warnings.
- If 'R CMD check' started to fail recently on the Linux builder(s) over a missing dependency, add the missing dependency to 'Suggests:' in your DESCRIPTION file. See Renviron.bioc for more information.

raw results

Package 583/2361HostnameOS / ArchINSTALLBUILDCHECKBUILD BIN
DiffBind 3.20.0  (landing page)
Rory Stark
Snapshot Date: 2025-11-12 13:45 -0500 (Wed, 12 Nov 2025)
git_url: https://git.bioconductor.org/packages/DiffBind
git_branch: RELEASE_3_22
git_last_commit: fc696a0
git_last_commit_date: 2025-10-29 10:08:58 -0500 (Wed, 29 Oct 2025)
taishanLinux (openEuler 24.03 LTS) / aarch64  OK    OK    OK  



Results for Bioconductor software packages that depend directly on package DiffBind

QUICK STATSOS / ArchINSTALLBUILDCHECKBUILD BIN
taishanLinux (openEuler 24.03 LTS) / aarch64
002
002
0002
Package 1/2HostnameOS / ArchINSTALLBUILDCHECKBUILD BIN
ChIPQC 1.46.0  (landing page)
Tom Carroll , Rory Stark
git_last_commit: bf87702
git_last_commit_date: 2025-10-29 10:18:53 -0500
taishanLinux (openEuler 24.03 LTS) / aarch64  OK    OK    OK  
Package 2/2HostnameOS / ArchINSTALLBUILDCHECKBUILD BIN
vulcan 1.32.0  (landing page)
Federico M. Giorgi
git_last_commit: 55315e7
git_last_commit_date: 2025-10-29 10:41:08 -0500
taishanLinux (openEuler 24.03 LTS) / aarch64  OK    OK    OK