Package: DepecheR Version: 1.26.0 Command: /home/biocbuild/bbs-3.22-bioc/R/bin/R CMD INSTALL DepecheR StartedAt: 2025-11-11 15:14:44 -0500 (Tue, 11 Nov 2025) EndedAt: 2025-11-11 15:15:19 -0500 (Tue, 11 Nov 2025) EllapsedTime: 35.1 seconds RetCode: 0 Status: OK