Package: DepecheR Version: 1.26.0 Command: /Library/Frameworks/R.framework/Resources/bin/R CMD INSTALL DepecheR StartedAt: 2025-11-10 15:05:57 -0500 (Mon, 10 Nov 2025) EndedAt: 2025-11-10 15:06:08 -0500 (Mon, 10 Nov 2025) EllapsedTime: 10.9 seconds RetCode: 0 Status: OK