Package: DepInfeR Version: 1.14.0 Command: /home/biocbuild/R/R/bin/R CMD build --keep-empty-dirs --no-resave-data DepInfeR StartedAt: 2025-11-14 01:13:19 -0000 (Fri, 14 Nov 2025) EndedAt: 2025-11-14 01:14:14 -0000 (Fri, 14 Nov 2025) EllapsedTime: 55.0 seconds RetCode: 0 Status: OK PackageFile: DepInfeR_1.14.0.tar.gz PackageFileSize: 1.877 MiB