Package: DepInfeR Version: 1.14.0 Command: /home/biocbuild/bbs-3.22-bioc/R/bin/R CMD INSTALL DepInfeR StartedAt: 2025-11-11 15:09:59 -0500 (Tue, 11 Nov 2025) EndedAt: 2025-11-11 15:10:26 -0500 (Tue, 11 Nov 2025) EllapsedTime: 26.9 seconds RetCode: 0 Status: OK