Package: DepInfeR Version: 1.14.0 Command: /home/biocbuild/bbs-3.22-bioc/R/bin/R CMD check --install=check:DepInfeR.install-out.txt --library=/home/biocbuild/bbs-3.22-bioc/R/site-library --timings DepInfeR_1.14.0.tar.gz StartedAt: 2025-11-13 23:02:08 -0500 (Thu, 13 Nov 2025) EndedAt: 2025-11-13 23:04:21 -0500 (Thu, 13 Nov 2025) EllapsedTime: 132.2 seconds RetCode: 0 Status: OK CheckDir: DepInfeR.Rcheck Warnings: 0