Package: DepInfeR Version: 1.14.0 Command: /Library/Frameworks/R.framework/Resources/bin/R CMD INSTALL DepInfeR StartedAt: 2025-10-30 15:07:10 -0400 (Thu, 30 Oct 2025) EndedAt: 2025-10-30 15:08:09 -0400 (Thu, 30 Oct 2025) EllapsedTime: 58.8 seconds RetCode: 0 Status: OK