Package: DepInfeR Version: 1.12.0 Command: /Library/Frameworks/R.framework/Resources/bin/R CMD build --keep-empty-dirs --no-resave-data DepInfeR StartedAt: 2025-10-13 23:06:15 -0400 (Mon, 13 Oct 2025) EndedAt: 2025-10-13 23:07:34 -0400 (Mon, 13 Oct 2025) EllapsedTime: 79.2 seconds RetCode: 0 Status: OK PackageFile: DepInfeR_1.12.0.tar.gz PackageFileSize: 2.352 MiB