Package: DepInfeR Version: 1.12.0 Command: rm -rf DepInfeR.buildbin-libdir && mkdir DepInfeR.buildbin-libdir && /Users/biocbuild/BBS/utils/build-universal.sh DepInfeR_1.12.0.tar.gz /Library/Frameworks/R.framework/Resources/bin/R DepInfeR.buildbin-libdir StartedAt: 2025-10-15 18:12:15 -0400 (Wed, 15 Oct 2025) EndedAt: 2025-10-15 18:12:24 -0400 (Wed, 15 Oct 2025) EllapsedTime: 9.1 seconds RetCode: 0 Status: OK PackageFile: DepInfeR_1.12.0.tgz PackageFileSize: 2.374 MiB