Package: DelayedTensor Version: 1.16.0 Command: /home/biocbuild/R/R/bin/R CMD INSTALL DelayedTensor StartedAt: 2025-11-13 22:05:46 -0000 (Thu, 13 Nov 2025) EndedAt: 2025-11-13 22:06:22 -0000 (Thu, 13 Nov 2025) EllapsedTime: 36.1 seconds RetCode: 0 Status: OK