Package: DelayedTensor Version: 1.16.0 Command: /home/biocbuild/R/R/bin/R CMD build --keep-empty-dirs --no-resave-data DelayedTensor StartedAt: 2025-11-14 01:11:32 -0000 (Fri, 14 Nov 2025) EndedAt: 2025-11-14 01:16:54 -0000 (Fri, 14 Nov 2025) EllapsedTime: 322.1 seconds RetCode: 0 Status: OK PackageFile: DelayedTensor_1.16.0.tar.gz PackageFileSize: 4.385 MiB