Package: DelayedTensor Version: 1.16.0 Command: /home/biocbuild/bbs-3.22-bioc/R/bin/R CMD check --install=check:DelayedTensor.install-out.txt --library=/home/biocbuild/bbs-3.22-bioc/R/site-library --timings DelayedTensor_1.16.0.tar.gz StartedAt: 2025-11-11 22:59:34 -0500 (Tue, 11 Nov 2025) EndedAt: 2025-11-11 23:08:48 -0500 (Tue, 11 Nov 2025) EllapsedTime: 554.5 seconds RetCode: 0 Status: WARNINGS CheckDir: DelayedTensor.Rcheck Warnings: 2