Package: DelayedTensor Version: 1.16.0 Command: /home/biocbuild/bbs-3.22-bioc/R/bin/R CMD build --keep-empty-dirs --no-resave-data --md5 DelayedTensor StartedAt: 2025-11-11 17:19:34 -0500 (Tue, 11 Nov 2025) EndedAt: 2025-11-11 17:21:49 -0500 (Tue, 11 Nov 2025) EllapsedTime: 135.1 seconds RetCode: 0 Status: OK PackageFile: DelayedTensor_1.16.0.tar.gz PackageFileSize: 4.13 MiB