Package: DelayedTensor Version: 1.14.0 Command: /Library/Frameworks/R.framework/Resources/bin/R CMD check --install=check:DelayedTensor.install-out.txt --library=/Library/Frameworks/R.framework/Resources/library --no-vignettes --timings DelayedTensor_1.14.0.tar.gz StartedAt: 2025-10-14 02:39:27 -0400 (Tue, 14 Oct 2025) EndedAt: 2025-10-14 02:54:10 -0400 (Tue, 14 Oct 2025) EllapsedTime: 883.3 seconds RetCode: 0 Status: WARNINGS CheckDir: DelayedTensor.Rcheck Warnings: 2