Package: DelayedTensor Version: 1.14.0 Command: /home/biocbuild/R/R/bin/R CMD INSTALL DelayedTensor StartedAt: 2025-09-25 21:14:19 -0000 (Thu, 25 Sep 2025) EndedAt: 2025-09-25 21:14:57 -0000 (Thu, 25 Sep 2025) EllapsedTime: 38.0 seconds RetCode: 0 Status: OK