Package: DelayedRandomArray Version: 1.18.0 Command: /home/biocbuild/R/R/bin/R CMD INSTALL DelayedRandomArray StartedAt: 2025-11-10 21:23:10 -0000 (Mon, 10 Nov 2025) EndedAt: 2025-11-10 21:23:53 -0000 (Mon, 10 Nov 2025) EllapsedTime: 43.2 seconds RetCode: 0 Status: OK