Package: DelayedRandomArray Version: 1.18.0 Command: /home/biocbuild/R/R/bin/R CMD check --install=check:DelayedRandomArray.install-out.txt --library=/home/biocbuild/R/R/site-library --no-vignettes --timings DelayedRandomArray_1.18.0.tar.gz StartedAt: 2025-11-11 08:59:10 -0000 (Tue, 11 Nov 2025) EndedAt: 2025-11-11 09:02:39 -0000 (Tue, 11 Nov 2025) EllapsedTime: 209.2 seconds RetCode: 0 Status: OK CheckDir: DelayedRandomArray.Rcheck Warnings: 0