Package: DelayedRandomArray Version: 1.18.0 Command: /home/biocbuild/R/R/bin/R CMD build --keep-empty-dirs --no-resave-data DelayedRandomArray StartedAt: 2025-11-11 01:05:59 -0000 (Tue, 11 Nov 2025) EndedAt: 2025-11-11 01:06:56 -0000 (Tue, 11 Nov 2025) EllapsedTime: 57.0 seconds RetCode: 0 Status: OK PackageFile: DelayedRandomArray_1.18.0.tar.gz PackageFileSize: 385.6 KiB